BEGIN:VCALENDAR
VERSION:2.0
PRODID:-//Dave Hinrich Music - ECPv6.15.20//NONSGML v1.0//EN
CALSCALE:GREGORIAN
METHOD:PUBLISH
X-ORIGINAL-URL:https://davehinrichmusic.com
X-WR-CALDESC:Events for Dave Hinrich Music
REFRESH-INTERVAL;VALUE=DURATION:PT1H
X-Robots-Tag:noindex
X-PUBLISHED-TTL:PT1H
BEGIN:VTIMEZONE
TZID:America/New_York
BEGIN:DAYLIGHT
TZOFFSETFROM:-0500
TZOFFSETTO:-0400
TZNAME:EDT
DTSTART:20250309T070000
END:DAYLIGHT
BEGIN:STANDARD
TZOFFSETFROM:-0400
TZOFFSETTO:-0500
TZNAME:EST
DTSTART:20251102T060000
END:STANDARD
BEGIN:DAYLIGHT
TZOFFSETFROM:-0500
TZOFFSETTO:-0400
TZNAME:EDT
DTSTART:20260308T070000
END:DAYLIGHT
BEGIN:STANDARD
TZOFFSETFROM:-0400
TZOFFSETTO:-0500
TZNAME:EST
DTSTART:20261101T060000
END:STANDARD
BEGIN:DAYLIGHT
TZOFFSETFROM:-0500
TZOFFSETTO:-0400
TZNAME:EDT
DTSTART:20270314T070000
END:DAYLIGHT
BEGIN:STANDARD
TZOFFSETFROM:-0400
TZOFFSETTO:-0500
TZNAME:EST
DTSTART:20271107T060000
END:STANDARD
END:VTIMEZONE
BEGIN:VEVENT
DTSTART;TZID=America/New_York:20260501T180000
DTEND;TZID=America/New_York:20260501T210000
DTSTAMP:20260422T182940
CREATED:20251118T181022Z
LAST-MODIFIED:20251118T181022Z
UID:2396-1777658400-1777669200@davehinrichmusic.com
SUMMARY:Dave Hinrich LIVE at Veranda Bistro & Bar
DESCRIPTION:
URL:https://davehinrichmusic.com/event/dave-hinrich-live-at-veranda-bistro-bar-4/
LOCATION:Veranda Bistro & Bar\, 32045 Detroit Ave\, Avon\, OH\, 44011\, United States
ATTACH;FMTTYPE=image/png:https://eadn-wc03-14325807.nxedge.io/wp-content/uploads/2022/05/Screen-Shot-2022-05-04-at-4.08.19-PM.png
END:VEVENT
BEGIN:VEVENT
DTSTART;TZID=America/New_York:20260502T190000
DTEND;TZID=America/New_York:20260502T220000
DTSTAMP:20260422T182940
CREATED:20251118T181102Z
LAST-MODIFIED:20251118T181102Z
UID:2398-1777748400-1777759200@davehinrichmusic.com
SUMMARY:Dave Hinrich LIVE at Beerhead
DESCRIPTION:
URL:https://davehinrichmusic.com/event/dave-hinrich-live-at-beerhead-2/
LOCATION:Beerhead Bar & Eatery\, 1813 Nagel Rd Suite 100\, Avon\, 44011\, United States
ATTACH;FMTTYPE=image/jpeg:https://eadn-wc03-14325807.nxedge.io/wp-content/uploads/2022/04/beerhead.jpg
END:VEVENT
BEGIN:VEVENT
DTSTART;TZID=America/New_York:20260508T193000
DTEND;TZID=America/New_York:20260508T223000
DTSTAMP:20260422T182940
CREATED:20260323T212340Z
LAST-MODIFIED:20260323T212340Z
UID:2537-1778268600-1778279400@davehinrichmusic.com
SUMMARY:Dave Hinrich LIVE at Razzles
DESCRIPTION:
URL:https://davehinrichmusic.com/event/dave-hinrich-live-at-razzles/
LOCATION:Razzles\, 27128 Bagley Road\, Olmsted Township\, OH\, 44138\, United States
ATTACH;FMTTYPE=image/png:https://eadn-wc03-14325807.nxedge.io/wp-content/uploads/2023/07/Screenshot-2023-07-21-at-8.56.24-PM.png
END:VEVENT
BEGIN:VEVENT
DTSTART;TZID=America/New_York:20260509T190000
DTEND;TZID=America/New_York:20260509T213000
DTSTAMP:20260422T182940
CREATED:20251219T005142Z
LAST-MODIFIED:20251219T005142Z
UID:2484-1778353200-1778362200@davehinrichmusic.com
SUMMARY:Dave Hinrich LIVE at Welcome to The Farm
DESCRIPTION:
URL:https://davehinrichmusic.com/event/dave-hinrich-live-at-welcome-to-the-farm-16/
LOCATION:Welcome to the Farm\, 1054 Old River Rd\, Cleveland\, OH\, 44113\, United States
ATTACH;FMTTYPE=image/jpeg:https://eadn-wc03-14325807.nxedge.io/wp-content/uploads/2022/04/wtf.jpg
END:VEVENT
BEGIN:VEVENT
DTSTART;TZID=America/New_York:20260514T180000
DTEND;TZID=America/New_York:20260514T210000
DTSTAMP:20260422T182940
CREATED:20251118T181149Z
LAST-MODIFIED:20251118T181149Z
UID:2400-1778781600-1778792400@davehinrichmusic.com
SUMMARY:Dave Hinrich LIVE at Brew Garden
DESCRIPTION:
URL:https://davehinrichmusic.com/event/dave-hinrich-live-at-brew-garden-2/
LOCATION:Brew Garden\, 16555 Southpark Center\, Strongsville\, OH\, 44136\, United States
ATTACH;FMTTYPE=image/jpeg:https://eadn-wc03-14325807.nxedge.io/wp-content/uploads/2022/05/brew-garden.jpg
END:VEVENT
BEGIN:VEVENT
DTSTART;TZID=America/New_York:20260515T180000
DTEND;TZID=America/New_York:20260515T210000
DTSTAMP:20260422T182940
CREATED:20251118T181226Z
LAST-MODIFIED:20251118T181226Z
UID:2402-1778868000-1778878800@davehinrichmusic.com
SUMMARY:Dave Hinrich LIVE at Harbor House
DESCRIPTION:
URL:https://davehinrichmusic.com/event/dave-hinrich-live-at-harbor-house/
LOCATION:Harbor House Bar & Grill\, 132 Main Street\, Huron\, OH\, 44839\, United States
ATTACH;FMTTYPE=image/jpeg:https://eadn-wc03-14325807.nxedge.io/wp-content/uploads/2022/05/harbor-house.jpg
END:VEVENT
BEGIN:VEVENT
DTSTART;TZID=America/New_York:20260520T190000
DTEND;TZID=America/New_York:20260520T220000
DTSTAMP:20260422T182940
CREATED:20251118T181259Z
LAST-MODIFIED:20251118T181259Z
UID:2404-1779303600-1779314400@davehinrichmusic.com
SUMMARY:Dave Hinrich LIVE at Trivs
DESCRIPTION:
URL:https://davehinrichmusic.com/event/dave-hinrich-live-at-trivs-5/
LOCATION:Trivs\, 17100 Royalton Rd Suite 11\, Strongsville\, OH\, 44136\, United States
ATTACH;FMTTYPE=image/jpeg:https://eadn-wc03-14325807.nxedge.io/wp-content/uploads/2022/10/trivs.jpg
END:VEVENT
BEGIN:VEVENT
DTSTART;TZID=America/New_York:20260605T180000
DTEND;TZID=America/New_York:20260605T210000
DTSTAMP:20260422T182940
CREATED:20251118T183212Z
LAST-MODIFIED:20251118T183212Z
UID:2406-1780682400-1780693200@davehinrichmusic.com
SUMMARY:Dave Hinrich LIVE at Veranda Bistro & Bar
DESCRIPTION:
URL:https://davehinrichmusic.com/event/dave-hinrich-live-at-veranda-bistro-bar-5/
LOCATION:Veranda Bistro & Bar\, 32045 Detroit Ave\, Avon\, OH\, 44011\, United States
ATTACH;FMTTYPE=image/png:https://eadn-wc03-14325807.nxedge.io/wp-content/uploads/2022/05/Screen-Shot-2022-05-04-at-4.08.19-PM.png
END:VEVENT
BEGIN:VEVENT
DTSTART;TZID=America/New_York:20260611T193000
DTEND;TZID=America/New_York:20260611T223000
DTSTAMP:20260422T182940
CREATED:20260323T212416Z
LAST-MODIFIED:20260323T212416Z
UID:2539-1781206200-1781217000@davehinrichmusic.com
SUMMARY:Dave Hinrich LIVE at Razzles
DESCRIPTION:
URL:https://davehinrichmusic.com/event/dave-hinrich-live-at-razzles-2/
LOCATION:Razzles\, 27128 Bagley Road\, Olmsted Township\, OH\, 44138\, United States
ATTACH;FMTTYPE=image/png:https://eadn-wc03-14325807.nxedge.io/wp-content/uploads/2023/07/Screenshot-2023-07-21-at-8.56.24-PM.png
END:VEVENT
BEGIN:VEVENT
DTSTART;TZID=America/New_York:20260612T180000
DTEND;TZID=America/New_York:20260612T210000
DTSTAMP:20260422T182940
CREATED:20251118T183253Z
LAST-MODIFIED:20251118T183253Z
UID:2408-1781287200-1781298000@davehinrichmusic.com
SUMMARY:Dave Hinrich LIVE at Brew Garden
DESCRIPTION:
URL:https://davehinrichmusic.com/event/dave-hinrich-live-at-brew-garden-3/
LOCATION:Brew Garden\, 16555 Southpark Center\, Strongsville\, OH\, 44136\, United States
ATTACH;FMTTYPE=image/jpeg:https://eadn-wc03-14325807.nxedge.io/wp-content/uploads/2022/05/brew-garden.jpg
END:VEVENT
BEGIN:VEVENT
DTSTART;TZID=America/New_York:20260613T190000
DTEND;TZID=America/New_York:20260613T213000
DTSTAMP:20260422T182940
CREATED:20251219T005214Z
LAST-MODIFIED:20251219T005214Z
UID:2486-1781377200-1781386200@davehinrichmusic.com
SUMMARY:Dave Hinrich LIVE at Welcome to The Farm
DESCRIPTION:
URL:https://davehinrichmusic.com/event/dave-hinrich-live-at-welcome-to-the-farm-17/
LOCATION:Welcome to the Farm\, 1054 Old River Rd\, Cleveland\, OH\, 44113\, United States
ATTACH;FMTTYPE=image/jpeg:https://eadn-wc03-14325807.nxedge.io/wp-content/uploads/2022/04/wtf.jpg
END:VEVENT
BEGIN:VEVENT
DTSTART;TZID=America/New_York:20260617T190000
DTEND;TZID=America/New_York:20260617T220000
DTSTAMP:20260422T182940
CREATED:20251118T183350Z
LAST-MODIFIED:20251118T183350Z
UID:2410-1781722800-1781733600@davehinrichmusic.com
SUMMARY:Dave Hinrich LIVE at Trivs
DESCRIPTION:
URL:https://davehinrichmusic.com/event/dave-hinrich-live-at-trivs-10/
LOCATION:Trivs\, 17100 Royalton Rd Suite 11\, Strongsville\, OH\, 44136\, United States
ATTACH;FMTTYPE=image/jpeg:https://eadn-wc03-14325807.nxedge.io/wp-content/uploads/2022/10/trivs.jpg
END:VEVENT
BEGIN:VEVENT
DTSTART;TZID=America/New_York:20260627T190000
DTEND;TZID=America/New_York:20260627T213000
DTSTAMP:20260422T182940
CREATED:20251219T005317Z
LAST-MODIFIED:20251219T005317Z
UID:2488-1782586800-1782595800@davehinrichmusic.com
SUMMARY:Dave Hinrich LIVE at Welcome to The Farm
DESCRIPTION:
URL:https://davehinrichmusic.com/event/dave-hinrich-live-at-welcome-to-the-farm-18/
LOCATION:Welcome to the Farm\, 1054 Old River Rd\, Cleveland\, OH\, 44113\, United States
ATTACH;FMTTYPE=image/jpeg:https://eadn-wc03-14325807.nxedge.io/wp-content/uploads/2022/04/wtf.jpg
END:VEVENT
BEGIN:VEVENT
DTSTART;TZID=America/New_York:20260628T140000
DTEND;TZID=America/New_York:20260628T170000
DTSTAMP:20260422T182940
CREATED:20251118T183524Z
LAST-MODIFIED:20251118T183524Z
UID:2412-1782655200-1782666000@davehinrichmusic.com
SUMMARY:Dave Hinrich LIVE at Harbor House
DESCRIPTION:
URL:https://davehinrichmusic.com/event/dave-hinrich-live-at-harbor-house-2/
LOCATION:Harbor House Bar & Grill\, 132 Main Street\, Huron\, OH\, 44839\, United States
ATTACH;FMTTYPE=image/jpeg:https://eadn-wc03-14325807.nxedge.io/wp-content/uploads/2022/05/harbor-house.jpg
END:VEVENT
BEGIN:VEVENT
DTSTART;TZID=America/New_York:20260709T180000
DTEND;TZID=America/New_York:20260709T210000
DTSTAMP:20260422T182940
CREATED:20251118T184315Z
LAST-MODIFIED:20251118T184315Z
UID:2414-1783620000-1783630800@davehinrichmusic.com
SUMMARY:Dave Hinrich LIVE at Brew Garden
DESCRIPTION:
URL:https://davehinrichmusic.com/event/dave-hinrich-live-at-brew-garden-5/
LOCATION:Brew Garden\, 16555 Southpark Center\, Strongsville\, OH\, 44136\, United States
ATTACH;FMTTYPE=image/jpeg:https://eadn-wc03-14325807.nxedge.io/wp-content/uploads/2022/05/brew-garden.jpg
END:VEVENT
BEGIN:VEVENT
DTSTART;TZID=America/New_York:20260710T190000
DTEND;TZID=America/New_York:20260710T213000
DTSTAMP:20260422T182940
CREATED:20251219T005349Z
LAST-MODIFIED:20251219T005349Z
UID:2490-1783710000-1783719000@davehinrichmusic.com
SUMMARY:Dave Hinrich LIVE at Welcome to The Farm
DESCRIPTION:
URL:https://davehinrichmusic.com/event/dave-hinrich-live-at-welcome-to-the-farm-19/
LOCATION:Welcome to the Farm\, 1054 Old River Rd\, Cleveland\, OH\, 44113\, United States
ATTACH;FMTTYPE=image/jpeg:https://eadn-wc03-14325807.nxedge.io/wp-content/uploads/2022/04/wtf.jpg
END:VEVENT
BEGIN:VEVENT
DTSTART;TZID=America/New_York:20260715T190000
DTEND;TZID=America/New_York:20260715T220000
DTSTAMP:20260422T182940
CREATED:20251118T184441Z
LAST-MODIFIED:20251118T184441Z
UID:2418-1784142000-1784152800@davehinrichmusic.com
SUMMARY:Dave Hinrich LIVE at Trivs
DESCRIPTION:
URL:https://davehinrichmusic.com/event/dave-hinrich-live-at-trivs-11/
LOCATION:Trivs\, 17100 Royalton Rd Suite 11\, Strongsville\, OH\, 44136\, United States
ATTACH;FMTTYPE=image/jpeg:https://eadn-wc03-14325807.nxedge.io/wp-content/uploads/2022/10/trivs.jpg
END:VEVENT
BEGIN:VEVENT
DTSTART;TZID=America/New_York:20260717T190000
DTEND;TZID=America/New_York:20260717T220000
DTSTAMP:20260422T182940
CREATED:20251118T184541Z
LAST-MODIFIED:20251118T184541Z
UID:2420-1784314800-1784325600@davehinrichmusic.com
SUMMARY:Dave Hinrich LIVE at Hog Heaven
DESCRIPTION:
URL:https://davehinrichmusic.com/event/dave-hinrich-live-at-hog-heaven/
LOCATION:Hog Heaven BBQ – New Philadelphia\, 1290 W High Ave\, New Philadelphia\, OH\, 44663\, United States
ATTACH;FMTTYPE=image/png:https://eadn-wc03-14325807.nxedge.io/wp-content/uploads/2024/01/hog-heaven-bbq.png
END:VEVENT
BEGIN:VEVENT
DTSTART;TZID=America/New_York:20260718T200000
DTEND;TZID=America/New_York:20260718T230000
DTSTAMP:20260422T182940
CREATED:20251118T184636Z
LAST-MODIFIED:20251118T184636Z
UID:2422-1784404800-1784415600@davehinrichmusic.com
SUMMARY:Dave Hinrich LIVE at The Still House - Gervasi Vineyards
DESCRIPTION:
URL:https://davehinrichmusic.com/event/dave-hinrich-live-at-the-still-house-gervasi-vineyards-3/
LOCATION:Gervasi Vineyard: The Still House\, 1700 55th St NE BLDG K\, Canton\, OH\, 44721\, United States
ATTACH;FMTTYPE=image/jpeg:https://eadn-wc03-14325807.nxedge.io/wp-content/uploads/2025/06/gervasi.jpg
END:VEVENT
BEGIN:VEVENT
DTSTART;TZID=America/New_York:20260723T193000
DTEND;TZID=America/New_York:20260723T223000
DTSTAMP:20260422T182940
CREATED:20260323T212447Z
LAST-MODIFIED:20260323T212447Z
UID:2541-1784835000-1784845800@davehinrichmusic.com
SUMMARY:Dave Hinrich LIVE at Razzles
DESCRIPTION:
URL:https://davehinrichmusic.com/event/dave-hinrich-live-at-razzles-3/
LOCATION:Razzles\, 27128 Bagley Road\, Olmsted Township\, OH\, 44138\, United States
ATTACH;FMTTYPE=image/png:https://eadn-wc03-14325807.nxedge.io/wp-content/uploads/2023/07/Screenshot-2023-07-21-at-8.56.24-PM.png
END:VEVENT
BEGIN:VEVENT
DTSTART;TZID=America/New_York:20260725T190000
DTEND;TZID=America/New_York:20260725T213000
DTSTAMP:20260422T182940
CREATED:20251219T005425Z
LAST-MODIFIED:20251219T005425Z
UID:2492-1785006000-1785015000@davehinrichmusic.com
SUMMARY:Dave Hinrich LIVE at Welcome to The Farm
DESCRIPTION:
URL:https://davehinrichmusic.com/event/dave-hinrich-live-at-welcome-to-the-farm-20/
LOCATION:Welcome to the Farm\, 1054 Old River Rd\, Cleveland\, OH\, 44113\, United States
ATTACH;FMTTYPE=image/jpeg:https://eadn-wc03-14325807.nxedge.io/wp-content/uploads/2022/04/wtf.jpg
END:VEVENT
BEGIN:VEVENT
DTSTART;TZID=America/New_York:20260731T180000
DTEND;TZID=America/New_York:20260731T210000
DTSTAMP:20260422T182940
CREATED:20260213T205703Z
LAST-MODIFIED:20260213T205703Z
UID:2520-1785520800-1785531600@davehinrichmusic.com
SUMMARY:Dave Hinrich LIVE at Paper Moon
DESCRIPTION:
URL:https://davehinrichmusic.com/event/dave-hinrich-live-at-paper-moon-2/
LOCATION:Paper Moon Vineyards\, 2008 State Rd\, Vermillion\, OH\, 44089\, United States
ATTACH;FMTTYPE=image/jpeg:https://eadn-wc03-14325807.nxedge.io/wp-content/uploads/2022/04/paper-moon.jpg
END:VEVENT
BEGIN:VEVENT
DTSTART;TZID=America/New_York:20260801T190000
DTEND;TZID=America/New_York:20260801T220000
DTSTAMP:20260422T182940
CREATED:20251119T025949Z
LAST-MODIFIED:20251119T025949Z
UID:2424-1785610800-1785621600@davehinrichmusic.com
SUMMARY:Dave Hinrich LIVE at Beerhead
DESCRIPTION:
URL:https://davehinrichmusic.com/event/dave-hinrich-live-at-beerhead-4/
LOCATION:Beerhead Bar & Eatery\, 1813 Nagel Rd Suite 100\, Avon\, 44011\, United States
ATTACH;FMTTYPE=image/jpeg:https://eadn-wc03-14325807.nxedge.io/wp-content/uploads/2022/04/beerhead.jpg
END:VEVENT
BEGIN:VEVENT
DTSTART;TZID=America/New_York:20260807T180000
DTEND;TZID=America/New_York:20260807T210000
DTSTAMP:20260422T182940
CREATED:20251119T030053Z
LAST-MODIFIED:20251119T030053Z
UID:2426-1786125600-1786136400@davehinrichmusic.com
SUMMARY:Dave Hinrich LIVE at Brew Garden
DESCRIPTION:
URL:https://davehinrichmusic.com/event/dave-hinrich-live-at-brew-garden-6/
LOCATION:Brew Garden\, 16555 Southpark Center\, Strongsville\, OH\, 44136\, United States
ATTACH;FMTTYPE=image/jpeg:https://eadn-wc03-14325807.nxedge.io/wp-content/uploads/2022/05/brew-garden.jpg
END:VEVENT
BEGIN:VEVENT
DTSTART;TZID=America/New_York:20260808T190000
DTEND;TZID=America/New_York:20260808T213000
DTSTAMP:20260422T182940
CREATED:20251219T005455Z
LAST-MODIFIED:20251219T005455Z
UID:2494-1786215600-1786224600@davehinrichmusic.com
SUMMARY:Dave Hinrich LIVE at Welcome to The Farm
DESCRIPTION:
URL:https://davehinrichmusic.com/event/dave-hinrich-live-at-welcome-to-the-farm-21/
LOCATION:Welcome to the Farm\, 1054 Old River Rd\, Cleveland\, OH\, 44113\, United States
ATTACH;FMTTYPE=image/jpeg:https://eadn-wc03-14325807.nxedge.io/wp-content/uploads/2022/04/wtf.jpg
END:VEVENT
BEGIN:VEVENT
DTSTART;TZID=America/New_York:20260814T193000
DTEND;TZID=America/New_York:20260814T223000
DTSTAMP:20260422T182940
CREATED:20260323T212515Z
LAST-MODIFIED:20260323T212515Z
UID:2543-1786735800-1786746600@davehinrichmusic.com
SUMMARY:Dave Hinrich LIVE at Razzles
DESCRIPTION:
URL:https://davehinrichmusic.com/event/dave-hinrich-live-at-razzles-4/
LOCATION:Razzles\, 27128 Bagley Road\, Olmsted Township\, OH\, 44138\, United States
ATTACH;FMTTYPE=image/png:https://eadn-wc03-14325807.nxedge.io/wp-content/uploads/2023/07/Screenshot-2023-07-21-at-8.56.24-PM.png
END:VEVENT
BEGIN:VEVENT
DTSTART;TZID=America/New_York:20260815T180000
DTEND;TZID=America/New_York:20260815T210000
DTSTAMP:20260422T182940
CREATED:20251119T030301Z
LAST-MODIFIED:20251119T030301Z
UID:2428-1786816800-1786827600@davehinrichmusic.com
SUMMARY:Dave Hinrich LIVE at Veranda Bistro & Bar
DESCRIPTION:
URL:https://davehinrichmusic.com/event/dave-hinrich-live-at-veranda-bistro-bar-7/
LOCATION:Veranda Bistro & Bar\, 32045 Detroit Ave\, Avon\, OH\, 44011\, United States
ATTACH;FMTTYPE=image/png:https://eadn-wc03-14325807.nxedge.io/wp-content/uploads/2022/05/Screen-Shot-2022-05-04-at-4.08.19-PM.png
END:VEVENT
BEGIN:VEVENT
DTSTART;TZID=America/New_York:20260819T190000
DTEND;TZID=America/New_York:20260819T220000
DTSTAMP:20260422T182940
CREATED:20251119T030351Z
LAST-MODIFIED:20251119T030351Z
UID:2430-1787166000-1787176800@davehinrichmusic.com
SUMMARY:Dave Hinrich LIVE at Trivs
DESCRIPTION:
URL:https://davehinrichmusic.com/event/dave-hinrich-live-at-trivs-12/
LOCATION:Trivs\, 17100 Royalton Rd Suite 11\, Strongsville\, OH\, 44136\, United States
ATTACH;FMTTYPE=image/jpeg:https://eadn-wc03-14325807.nxedge.io/wp-content/uploads/2022/10/trivs.jpg
END:VEVENT
BEGIN:VEVENT
DTSTART;TZID=America/New_York:20260829T190000
DTEND;TZID=America/New_York:20260829T213000
DTSTAMP:20260422T182940
CREATED:20251219T005524Z
LAST-MODIFIED:20251219T005524Z
UID:2496-1788030000-1788039000@davehinrichmusic.com
SUMMARY:Dave Hinrich LIVE at Welcome to The Farm
DESCRIPTION:
URL:https://davehinrichmusic.com/event/dave-hinrich-live-at-welcome-to-the-farm-22/
LOCATION:Welcome to the Farm\, 1054 Old River Rd\, Cleveland\, OH\, 44113\, United States
ATTACH;FMTTYPE=image/jpeg:https://eadn-wc03-14325807.nxedge.io/wp-content/uploads/2022/04/wtf.jpg
END:VEVENT
BEGIN:VEVENT
DTSTART;TZID=America/New_York:20260904T180000
DTEND;TZID=America/New_York:20260904T210000
DTSTAMP:20260422T182940
CREATED:20251119T032340Z
LAST-MODIFIED:20251119T032340Z
UID:2432-1788544800-1788555600@davehinrichmusic.com
SUMMARY:Dave Hinrich LIVE at Veranda Bistro & Bar
DESCRIPTION:
URL:https://davehinrichmusic.com/event/dave-hinrich-live-at-veranda-bistro-bar-8/
LOCATION:Veranda Bistro & Bar\, 32045 Detroit Ave\, Avon\, OH\, 44011\, United States
ATTACH;FMTTYPE=image/png:https://eadn-wc03-14325807.nxedge.io/wp-content/uploads/2022/05/Screen-Shot-2022-05-04-at-4.08.19-PM.png
END:VEVENT
END:VCALENDAR