BEGIN:VCALENDAR
VERSION:2.0
PRODID:-//Dave Hinrich Music - ECPv6.15.18//NONSGML v1.0//EN
CALSCALE:GREGORIAN
METHOD:PUBLISH
X-ORIGINAL-URL:https://davehinrichmusic.com
X-WR-CALDESC:Events for Dave Hinrich Music
REFRESH-INTERVAL;VALUE=DURATION:PT1H
X-Robots-Tag:noindex
X-PUBLISHED-TTL:PT1H
BEGIN:VTIMEZONE
TZID:America/New_York
BEGIN:DAYLIGHT
TZOFFSETFROM:-0500
TZOFFSETTO:-0400
TZNAME:EDT
DTSTART:20250309T070000
END:DAYLIGHT
BEGIN:STANDARD
TZOFFSETFROM:-0400
TZOFFSETTO:-0500
TZNAME:EST
DTSTART:20251102T060000
END:STANDARD
BEGIN:DAYLIGHT
TZOFFSETFROM:-0500
TZOFFSETTO:-0400
TZNAME:EDT
DTSTART:20260308T070000
END:DAYLIGHT
BEGIN:STANDARD
TZOFFSETFROM:-0400
TZOFFSETTO:-0500
TZNAME:EST
DTSTART:20261101T060000
END:STANDARD
BEGIN:DAYLIGHT
TZOFFSETFROM:-0500
TZOFFSETTO:-0400
TZNAME:EDT
DTSTART:20270314T070000
END:DAYLIGHT
BEGIN:STANDARD
TZOFFSETFROM:-0400
TZOFFSETTO:-0500
TZNAME:EST
DTSTART:20271107T060000
END:STANDARD
END:VTIMEZONE
BEGIN:VEVENT
DTSTART;TZID=America/New_York:20260501T180000
DTEND;TZID=America/New_York:20260501T210000
DTSTAMP:20260422T152817
CREATED:20251118T181022Z
LAST-MODIFIED:20251118T181022Z
UID:2396-1777658400-1777669200@davehinrichmusic.com
SUMMARY:Dave Hinrich LIVE at Veranda Bistro & Bar
DESCRIPTION:
URL:https://davehinrichmusic.com/event/dave-hinrich-live-at-veranda-bistro-bar-4/
LOCATION:Veranda Bistro & Bar\, 32045 Detroit Ave\, Avon\, OH\, 44011\, United States
ATTACH;FMTTYPE=image/png:https://eadn-wc03-14325807.nxedge.io/wp-content/uploads/2022/05/Screen-Shot-2022-05-04-at-4.08.19-PM.png
END:VEVENT
BEGIN:VEVENT
DTSTART;TZID=America/New_York:20260502T190000
DTEND;TZID=America/New_York:20260502T220000
DTSTAMP:20260422T152817
CREATED:20251118T181102Z
LAST-MODIFIED:20251118T181102Z
UID:2398-1777748400-1777759200@davehinrichmusic.com
SUMMARY:Dave Hinrich LIVE at Beerhead
DESCRIPTION:
URL:https://davehinrichmusic.com/event/dave-hinrich-live-at-beerhead-2/
LOCATION:Beerhead Bar & Eatery\, 1813 Nagel Rd Suite 100\, Avon\, 44011\, United States
ATTACH;FMTTYPE=image/jpeg:https://eadn-wc03-14325807.nxedge.io/wp-content/uploads/2022/04/beerhead.jpg
END:VEVENT
BEGIN:VEVENT
DTSTART;TZID=America/New_York:20260508T193000
DTEND;TZID=America/New_York:20260508T223000
DTSTAMP:20260422T152817
CREATED:20260323T212340Z
LAST-MODIFIED:20260323T212340Z
UID:2537-1778268600-1778279400@davehinrichmusic.com
SUMMARY:Dave Hinrich LIVE at Razzles
DESCRIPTION:
URL:https://davehinrichmusic.com/event/dave-hinrich-live-at-razzles/
LOCATION:Razzles\, 27128 Bagley Road\, Olmsted Township\, OH\, 44138\, United States
ATTACH;FMTTYPE=image/png:https://eadn-wc03-14325807.nxedge.io/wp-content/uploads/2023/07/Screenshot-2023-07-21-at-8.56.24-PM.png
END:VEVENT
BEGIN:VEVENT
DTSTART;TZID=America/New_York:20260509T190000
DTEND;TZID=America/New_York:20260509T213000
DTSTAMP:20260422T152817
CREATED:20251219T005142Z
LAST-MODIFIED:20251219T005142Z
UID:2484-1778353200-1778362200@davehinrichmusic.com
SUMMARY:Dave Hinrich LIVE at Welcome to The Farm
DESCRIPTION:
URL:https://davehinrichmusic.com/event/dave-hinrich-live-at-welcome-to-the-farm-16/
LOCATION:Welcome to the Farm\, 1054 Old River Rd\, Cleveland\, OH\, 44113\, United States
ATTACH;FMTTYPE=image/jpeg:https://eadn-wc03-14325807.nxedge.io/wp-content/uploads/2022/04/wtf.jpg
END:VEVENT
BEGIN:VEVENT
DTSTART;TZID=America/New_York:20260514T180000
DTEND;TZID=America/New_York:20260514T210000
DTSTAMP:20260422T152817
CREATED:20251118T181149Z
LAST-MODIFIED:20251118T181149Z
UID:2400-1778781600-1778792400@davehinrichmusic.com
SUMMARY:Dave Hinrich LIVE at Brew Garden
DESCRIPTION:
URL:https://davehinrichmusic.com/event/dave-hinrich-live-at-brew-garden-2/
LOCATION:Brew Garden\, 16555 Southpark Center\, Strongsville\, OH\, 44136\, United States
ATTACH;FMTTYPE=image/jpeg:https://eadn-wc03-14325807.nxedge.io/wp-content/uploads/2022/05/brew-garden.jpg
END:VEVENT
BEGIN:VEVENT
DTSTART;TZID=America/New_York:20260515T180000
DTEND;TZID=America/New_York:20260515T210000
DTSTAMP:20260422T152817
CREATED:20251118T181226Z
LAST-MODIFIED:20251118T181226Z
UID:2402-1778868000-1778878800@davehinrichmusic.com
SUMMARY:Dave Hinrich LIVE at Harbor House
DESCRIPTION:
URL:https://davehinrichmusic.com/event/dave-hinrich-live-at-harbor-house/
LOCATION:Harbor House Bar & Grill\, 132 Main Street\, Huron\, OH\, 44839\, United States
ATTACH;FMTTYPE=image/jpeg:https://eadn-wc03-14325807.nxedge.io/wp-content/uploads/2022/05/harbor-house.jpg
END:VEVENT
BEGIN:VEVENT
DTSTART;TZID=America/New_York:20260520T190000
DTEND;TZID=America/New_York:20260520T220000
DTSTAMP:20260422T152817
CREATED:20251118T181259Z
LAST-MODIFIED:20251118T181259Z
UID:2404-1779303600-1779314400@davehinrichmusic.com
SUMMARY:Dave Hinrich LIVE at Trivs
DESCRIPTION:
URL:https://davehinrichmusic.com/event/dave-hinrich-live-at-trivs-5/
LOCATION:Trivs\, 17100 Royalton Rd Suite 11\, Strongsville\, OH\, 44136\, United States
ATTACH;FMTTYPE=image/jpeg:https://eadn-wc03-14325807.nxedge.io/wp-content/uploads/2022/10/trivs.jpg
END:VEVENT
END:VCALENDAR