BEGIN:VCALENDAR
VERSION:2.0
PRODID:-//Dave Hinrich Music - ECPv6.15.20//NONSGML v1.0//EN
CALSCALE:GREGORIAN
METHOD:PUBLISH
X-WR-CALNAME:Dave Hinrich Music
X-ORIGINAL-URL:https://davehinrichmusic.com
X-WR-CALDESC:Events for Dave Hinrich Music
REFRESH-INTERVAL;VALUE=DURATION:PT1H
X-Robots-Tag:noindex
X-PUBLISHED-TTL:PT1H
BEGIN:VTIMEZONE
TZID:America/New_York
BEGIN:DAYLIGHT
TZOFFSETFROM:-0500
TZOFFSETTO:-0400
TZNAME:EDT
DTSTART:20250309T070000
END:DAYLIGHT
BEGIN:STANDARD
TZOFFSETFROM:-0400
TZOFFSETTO:-0500
TZNAME:EST
DTSTART:20251102T060000
END:STANDARD
BEGIN:DAYLIGHT
TZOFFSETFROM:-0500
TZOFFSETTO:-0400
TZNAME:EDT
DTSTART:20260308T070000
END:DAYLIGHT
BEGIN:STANDARD
TZOFFSETFROM:-0400
TZOFFSETTO:-0500
TZNAME:EST
DTSTART:20261101T060000
END:STANDARD
BEGIN:DAYLIGHT
TZOFFSETFROM:-0500
TZOFFSETTO:-0400
TZNAME:EDT
DTSTART:20270314T070000
END:DAYLIGHT
BEGIN:STANDARD
TZOFFSETFROM:-0400
TZOFFSETTO:-0500
TZNAME:EST
DTSTART:20271107T060000
END:STANDARD
END:VTIMEZONE
BEGIN:VEVENT
DTSTART;TZID=America/New_York:20260904T180000
DTEND;TZID=America/New_York:20260904T210000
DTSTAMP:20260422T231535
CREATED:20251119T032340Z
LAST-MODIFIED:20251119T032340Z
UID:2432-1788544800-1788555600@davehinrichmusic.com
SUMMARY:Dave Hinrich LIVE at Veranda Bistro & Bar
DESCRIPTION:
URL:https://davehinrichmusic.com/event/dave-hinrich-live-at-veranda-bistro-bar-8/
LOCATION:Veranda Bistro & Bar\, 32045 Detroit Ave\, Avon\, OH\, 44011\, United States
ATTACH;FMTTYPE=image/png:https://eadn-wc03-14325807.nxedge.io/wp-content/uploads/2022/05/Screen-Shot-2022-05-04-at-4.08.19-PM.png
END:VEVENT
BEGIN:VEVENT
DTSTART;TZID=America/New_York:20260905T190000
DTEND;TZID=America/New_York:20260905T220000
DTSTAMP:20260422T231535
CREATED:20251119T032418Z
LAST-MODIFIED:20251119T032418Z
UID:2434-1788634800-1788645600@davehinrichmusic.com
SUMMARY:Dave Hinrich LIVE at Beerhead
DESCRIPTION:
URL:https://davehinrichmusic.com/event/dave-hinrich-live-at-beerhead-5/
LOCATION:Beerhead Bar & Eatery\, 1813 Nagel Rd Suite 100\, Avon\, 44011\, United States
ATTACH;FMTTYPE=image/jpeg:https://eadn-wc03-14325807.nxedge.io/wp-content/uploads/2022/04/beerhead.jpg
END:VEVENT
BEGIN:VEVENT
DTSTART;TZID=America/New_York:20260911T180000
DTEND;TZID=America/New_York:20260911T210000
DTSTAMP:20260422T231535
CREATED:20251119T032500Z
LAST-MODIFIED:20251119T032500Z
UID:2436-1789149600-1789160400@davehinrichmusic.com
SUMMARY:Dave Hinrich LIVE at Brew Garden
DESCRIPTION:
URL:https://davehinrichmusic.com/event/dave-hinrich-live-at-brew-garden-7/
LOCATION:Brew Garden\, 16555 Southpark Center\, Strongsville\, OH\, 44136\, United States
ATTACH;FMTTYPE=image/jpeg:https://eadn-wc03-14325807.nxedge.io/wp-content/uploads/2022/05/brew-garden.jpg
END:VEVENT
BEGIN:VEVENT
DTSTART;TZID=America/New_York:20260912T190000
DTEND;TZID=America/New_York:20260912T213000
DTSTAMP:20260422T231535
CREATED:20251219T005554Z
LAST-MODIFIED:20251219T005554Z
UID:2498-1789239600-1789248600@davehinrichmusic.com
SUMMARY:Dave Hinrich LIVE at Welcome to The Farm
DESCRIPTION:
URL:https://davehinrichmusic.com/event/dave-hinrich-live-at-welcome-to-the-farm-23/
LOCATION:Welcome to the Farm\, 1054 Old River Rd\, Cleveland\, OH\, 44113\, United States
ATTACH;FMTTYPE=image/jpeg:https://eadn-wc03-14325807.nxedge.io/wp-content/uploads/2022/04/wtf.jpg
END:VEVENT
BEGIN:VEVENT
DTSTART;TZID=America/New_York:20260925T190000
DTEND;TZID=America/New_York:20260925T213000
DTSTAMP:20260422T231535
CREATED:20251219T005625Z
LAST-MODIFIED:20251219T005625Z
UID:2500-1790362800-1790371800@davehinrichmusic.com
SUMMARY:Dave Hinrich LIVE at Welcome to The Farm
DESCRIPTION:
URL:https://davehinrichmusic.com/event/dave-hinrich-live-at-welcome-to-the-farm-24/
LOCATION:Welcome to the Farm\, 1054 Old River Rd\, Cleveland\, OH\, 44113\, United States
ATTACH;FMTTYPE=image/jpeg:https://eadn-wc03-14325807.nxedge.io/wp-content/uploads/2022/04/wtf.jpg
END:VEVENT
BEGIN:VEVENT
DTSTART;TZID=America/New_York:20260926T200000
DTEND;TZID=America/New_York:20260926T230000
DTSTAMP:20260422T231535
CREATED:20251119T032619Z
LAST-MODIFIED:20251119T032619Z
UID:2438-1790452800-1790463600@davehinrichmusic.com
SUMMARY:Dave Hinrich LIVE at The Still House - Gervasi Vineyards
DESCRIPTION:
URL:https://davehinrichmusic.com/event/dave-hinrich-live-at-the-still-house-gervasi-vineyards-4/
LOCATION:Gervasi Vineyard: The Still House\, 1700 55th St NE BLDG K\, Canton\, OH\, 44721\, United States
ATTACH;FMTTYPE=image/jpeg:https://eadn-wc03-14325807.nxedge.io/wp-content/uploads/2025/06/gervasi.jpg
END:VEVENT
BEGIN:VEVENT
DTSTART;TZID=America/New_York:20260930T190000
DTEND;TZID=America/New_York:20260930T220000
DTSTAMP:20260422T231535
CREATED:20251119T032649Z
LAST-MODIFIED:20251119T032649Z
UID:2440-1790794800-1790805600@davehinrichmusic.com
SUMMARY:Dave Hinrich LIVE at Trivs
DESCRIPTION:
URL:https://davehinrichmusic.com/event/dave-hinrich-live-at-trivs-13/
LOCATION:Trivs\, 17100 Royalton Rd Suite 11\, Strongsville\, OH\, 44136\, United States
ATTACH;FMTTYPE=image/jpeg:https://eadn-wc03-14325807.nxedge.io/wp-content/uploads/2022/10/trivs.jpg
END:VEVENT
END:VCALENDAR